BEGIN:VCALENDAR
VERSION:2.0
PRODID:-//Spectra - ECPv6.15.20//NONSGML v1.0//EN
CALSCALE:GREGORIAN
METHOD:PUBLISH
X-WR-CALNAME:Spectra
X-ORIGINAL-URL:https://spectra-london.org.uk
X-WR-CALDESC:Events for Spectra
REFRESH-INTERVAL;VALUE=DURATION:PT1H
X-Robots-Tag:noindex
X-PUBLISHED-TTL:PT1H
BEGIN:VTIMEZONE
TZID:Europe/London
BEGIN:DAYLIGHT
TZOFFSETFROM:+0000
TZOFFSETTO:+0100
TZNAME:BST
DTSTART:20250330T010000
END:DAYLIGHT
BEGIN:STANDARD
TZOFFSETFROM:+0100
TZOFFSETTO:+0000
TZNAME:GMT
DTSTART:20251026T010000
END:STANDARD
BEGIN:DAYLIGHT
TZOFFSETFROM:+0000
TZOFFSETTO:+0100
TZNAME:BST
DTSTART:20260329T010000
END:DAYLIGHT
BEGIN:STANDARD
TZOFFSETFROM:+0100
TZOFFSETTO:+0000
TZNAME:GMT
DTSTART:20261025T010000
END:STANDARD
BEGIN:DAYLIGHT
TZOFFSETFROM:+0000
TZOFFSETTO:+0100
TZNAME:BST
DTSTART:20270328T010000
END:DAYLIGHT
BEGIN:STANDARD
TZOFFSETFROM:+0100
TZOFFSETTO:+0000
TZNAME:GMT
DTSTART:20271031T010000
END:STANDARD
END:VTIMEZONE
BEGIN:VEVENT
DTSTART;TZID=Europe/London:20260519T103000
DTEND;TZID=Europe/London:20260519T140000
DTSTAMP:20260425T123417
CREATED:20260424T151436Z
LAST-MODIFIED:20260424T151436Z
UID:10000200-1779186600-1779199200@spectra-london.org.uk
SUMMARY:Sexual health awareness\, HIV/STI testing & free condoms @ Chalkhill Community Centre
DESCRIPTION:Our outreach sessions are safe\, inclusive spaces where you can talk openly about your sexual health and wellbeing with our friendly team. \nAll events are risk assessed and may be subject to change. For updates\, follow us on Instagram: @spectra_london
URL:https://spectra-london.org.uk/event/sexual-health-awareness-hiv-sti-testing-free-condoms-chalkhill-community-centre-7/
LOCATION:Chalkhill Community Centre\, 113 Chaikhill Rd\, Wembley Park\, London\, Greater London\, HA9 9FX\, United Kingdom
CATEGORIES:Free condoms & Info,HIV testing
END:VEVENT
BEGIN:VEVENT
DTSTART;TZID=Europe/London:20260519T100000
DTEND;TZID=Europe/London:20260519T123000
DTSTAMP:20260425T123417
CREATED:20260424T151319Z
LAST-MODIFIED:20260424T151319Z
UID:10000199-1779184800-1779193800@spectra-london.org.uk
SUMMARY:Sexual Health Awareness & Free Condoms @ Via\, Brent
DESCRIPTION:Our outreach sessions are safe\, inclusive spaces where you can talk openly about your sexual health and wellbeing with our friendly team. \nAll events are risk assessed and may be subject to change. For updates\, follow us on Instagram: @spectra_london
URL:https://spectra-london.org.uk/event/sexual-health-awareness-free-condoms-via-brent-4/
LOCATION:Via\, 97 Cobbold Road\, London\, NW10 9SU\, United Kingdom
CATEGORIES:Free condoms & Info
ORGANIZER;CN="Spectra":MAILTO:info@spectra-london.org.uk
END:VEVENT
BEGIN:VEVENT
DTSTART;TZID=Europe/London:20260518T143000
DTEND;TZID=Europe/London:20260518T170000
DTSTAMP:20260425T123417
CREATED:20260424T151236Z
LAST-MODIFIED:20260424T151236Z
UID:10000198-1779114600-1779123600@spectra-london.org.uk
SUMMARY:HIV/STI testing & Free Condoms @ The Uxbridge Community Centre
DESCRIPTION:Our outreach sessions are safe\, inclusive spaces where you can talk openly about your sexual health and wellbeing with our friendly team. \nAll events are risk assessed and may be subject to change. For updates\, follow us on Instagram: @spectra_london
URL:https://spectra-london.org.uk/event/hiv-sti-testing-free-condoms-the-uxbridge-community-centre-9/
LOCATION:The Uxbridge Centre\, 32b The Greenway\, Uxbridge\, UB8 2PJ\, United Kingdom
CATEGORIES:Free condoms & Info,HIV testing
ORGANIZER;CN="Spectra":MAILTO:info@spectra-london.org.uk
END:VEVENT
BEGIN:VEVENT
DTSTART;TZID=Europe/London:20260515T120000
DTEND;TZID=Europe/London:20260515T150000
DTSTAMP:20260425T123417
CREATED:20260424T151038Z
LAST-MODIFIED:20260424T151038Z
UID:10000197-1778846400-1778857200@spectra-london.org.uk
SUMMARY:Sexual Health Awareness & HIV/STI testing @ Southfields Library
DESCRIPTION:Our outreach sessions are safe\, inclusive spaces where you can talk openly about your sexual health and wellbeing with our friendly team. \nAll events are risk assessed and may be subject to change. For updates\, follow us on Instagram: @spectra_london
URL:https://spectra-london.org.uk/event/sexual-health-awareness-hiv-sti-testing-southfields-library-3/
LOCATION:Southfields Library\, 300 Wimbledon Park Rd\, London\, SW19 6NL\, United Kingdom
CATEGORIES:HIV testing
ORGANIZER;CN="Spectra":MAILTO:info@spectra-london.org.uk
END:VEVENT
BEGIN:VEVENT
DTSTART;TZID=Europe/London:20260513T173000
DTEND;TZID=Europe/London:20260513T193000
DTSTAMP:20260425T123417
CREATED:20260305T105855Z
LAST-MODIFIED:20260305T133339Z
UID:10000115-1778693400-1778700600@spectra-london.org.uk
SUMMARY:Non-Binary Online Group
DESCRIPTION:Spectra’s Empowerment and Support programme’s peer led Non-Binary and Trans Online Groups offer an opportunity for a diverse range of people who identify on the trans and non-binary spectrum to meet and engage like-minded individuals to explore\, discuss and support each other in a safe\, welcoming space. Addressing a range of issues faced by individuals – social isolation\, stigma\, prejudice and transphobia\, that can lead to gender dysphoria\, isolation and poor mental health. \nIf you have any questions or would like to have further discussions around your access needs prior to joining the group\, please email us at Trans@spectra-london.org.uk.
URL:https://spectra-london.org.uk/event/non-binary-online-group-2/2026-05-13/
LOCATION:https://spectra-london.org.uk/event/non-binary-online-group-2/2026-05-13/
CATEGORIES:Trans & Non-Binary Groups
ORGANIZER;CN="Spectra":MAILTO:info@spectra-london.org.uk
END:VEVENT
BEGIN:VEVENT
DTSTART;TZID=Europe/London:20260513T113000
DTEND;TZID=Europe/London:20260513T140000
DTSTAMP:20260425T123417
CREATED:20260424T150220Z
LAST-MODIFIED:20260424T150220Z
UID:10000196-1778671800-1778680800@spectra-london.org.uk
SUMMARY:Sexual health awareness & free condoms @ Kilburn Library
DESCRIPTION:Our outreach sessions are safe\, inclusive spaces where you can talk openly about your sexual health and wellbeing with our friendly team. \nAll events are risk assessed and may be subject to change. For updates\, follow us on Instagram: @spectra_london
URL:https://spectra-london.org.uk/event/sexual-health-awareness-free-condoms-kilburn-library-3/
LOCATION:Kilburn Library\, 42\, Salusbury Road\, London\, Brent\,\, London\, NW6 6NN\, United Kingdom
CATEGORIES:Free condoms & Info
END:VEVENT
BEGIN:VEVENT
DTSTART;TZID=Europe/London:20260513T110000
DTEND;TZID=Europe/London:20260513T140000
DTSTAMP:20260425T123417
CREATED:20260424T150135Z
LAST-MODIFIED:20260424T150135Z
UID:10000195-1778670000-1778680800@spectra-london.org.uk
SUMMARY:HIV testing & free condoms @ Yiewsley & West Drayton Community Centre
DESCRIPTION:Our outreach sessions are safe\, inclusive spaces where you can talk openly about your sexual health and wellbeing with our friendly team. \nAll events are risk assessed and may be subject to change. For updates\, follow us on Instagram: @spectra_london
URL:https://spectra-london.org.uk/event/hiv-testing-free-condoms-yiewsley-west-drayton-community-centre-15/
LOCATION:West Drayton and Yiewsley Community Centre\, 228 Harmondsworth Road\, London\, UB7 9JL\, United Kingdom
CATEGORIES:Free condoms & Info,HIV testing
ORGANIZER;CN="Spectra":MAILTO:info@spectra-london.org.uk
END:VEVENT
BEGIN:VEVENT
DTSTART;TZID=Europe/London:20260511T103000
DTEND;TZID=Europe/London:20260511T123000
DTSTAMP:20260425T123417
CREATED:20260424T145940Z
LAST-MODIFIED:20260424T145940Z
UID:10000194-1778495400-1778502600@spectra-london.org.uk
SUMMARY:Sexual Health Information & Free Condoms @ Harefield Library
DESCRIPTION:Our outreach sessions are safe\, inclusive spaces where you can talk openly about your sexual health and wellbeing with our friendly team. \nAll events are risk assessed and may be subject to change. For updates\, follow us on Instagram: @spectra_london
URL:https://spectra-london.org.uk/event/sexual-health-information-free-condoms-harefield-library/
LOCATION:Harefield Library\, Park Ln\, Harefield\, Uxbridge\, London\, Greater London\, UB9 6BJ\, United Kingdom
CATEGORIES:Free condoms & Info,HIV testing
ORGANIZER;CN="Spectra":MAILTO:info@spectra-london.org.uk
END:VEVENT
BEGIN:VEVENT
DTSTART;TZID=Europe/London:20260508T133000
DTEND;TZID=Europe/London:20260508T173000
DTSTAMP:20260425T123417
CREATED:20260424T145126Z
LAST-MODIFIED:20260424T145126Z
UID:10000193-1778247000-1778261400@spectra-london.org.uk
SUMMARY:Sexual Health Information\, HIV & STIs Testing and Free Condoms at Active Communities Hub (ACH) Centrale Shopping Centre
DESCRIPTION:Our outreach sessions are safe\, inclusive spaces where you can talk openly about your sexual health and wellbeing with our friendly team. \nAll events are risk assessed and may be subject to change. For updates\, follow us on Instagram: @spectra_london
URL:https://spectra-london.org.uk/event/sexual-health-information-hiv-stis-testing-and-free-condoms-at-active-communities-hub-ach-centrale-shopping-centre-6/
LOCATION:Active Communities Hub\, Centrale Shopping Centre\, Upper Mall\, Opposite H&M\, London\, Greater London\, CR0 1TY\, United Kingdom
CATEGORIES:Free condoms & Info
END:VEVENT
BEGIN:VEVENT
DTSTART;TZID=Europe/London:20260508T110000
DTEND;TZID=Europe/London:20260508T140000
DTSTAMP:20260425T123417
CREATED:20260424T145050Z
LAST-MODIFIED:20260424T145050Z
UID:10000192-1778238000-1778248800@spectra-london.org.uk
SUMMARY:HIV testing & free condoms @ Yiewsley & West Drayton Community Centre
DESCRIPTION:Our outreach sessions are safe\, inclusive spaces where you can talk openly about your sexual health and wellbeing with our friendly team. \nAll events are risk assessed and may be subject to change. For updates\, follow us on Instagram: @spectra_london
URL:https://spectra-london.org.uk/event/hiv-testing-free-condoms-yiewsley-west-drayton-community-centre-14/
LOCATION:West Drayton and Yiewsley Community Centre\, 228 Harmondsworth Road\, London\, UB7 9JL\, United Kingdom
CATEGORIES:Free condoms & Info,HIV testing
ORGANIZER;CN="Spectra":MAILTO:info@spectra-london.org.uk
END:VEVENT
BEGIN:VEVENT
DTSTART;TZID=Europe/London:20260507T150000
DTEND;TZID=Europe/London:20260507T180000
DTSTAMP:20260425T123417
CREATED:20260424T144855Z
LAST-MODIFIED:20260424T144855Z
UID:10000190-1778166000-1778176800@spectra-london.org.uk
SUMMARY:Sexual Health Information & free condoms @ Oak Farm Library
DESCRIPTION:Our outreach sessions are safe\, inclusive spaces where you can talk openly about your sexual health and wellbeing with our friendly team. \nAll events are risk assessed and may be subject to change. For updates\, follow us on Instagram: @spectra_london
URL:https://spectra-london.org.uk/event/sexual-health-information-free-condoms-oak-farm-library/
LOCATION:Oak Farm Library\, Sutton Ct Rd\, Uxbridge\, London\, UB10 9PB\, United Kingdom
CATEGORIES:Free condoms & Info,HIV testing
ORGANIZER;CN="Spectra":MAILTO:info@spectra-london.org.uk
END:VEVENT
BEGIN:VEVENT
DTSTART;TZID=Europe/London:20260507T120000
DTEND;TZID=Europe/London:20260507T160000
DTSTAMP:20260425T123417
CREATED:20260424T144952Z
LAST-MODIFIED:20260424T144952Z
UID:10000191-1778155200-1778169600@spectra-london.org.uk
SUMMARY:Sexual health awareness & free condoms @ Yeading Library
DESCRIPTION:Our outreach sessions are safe\, inclusive spaces where you can talk openly about your sexual health and wellbeing with our friendly team. \nAll events are risk assessed and may be subject to change. For updates\, follow us on Instagram: @spectra_london
URL:https://spectra-london.org.uk/event/sexual-health-awareness-free-condoms-yeading-library-2/
LOCATION:Greater London
CATEGORIES:Free condoms & Info
END:VEVENT
BEGIN:VEVENT
DTSTART;TZID=Europe/London:20260507T110000
DTEND;TZID=Europe/London:20260507T150000
DTSTAMP:20260425T123417
CREATED:20260424T144538Z
LAST-MODIFIED:20260424T144538Z
UID:10000188-1778151600-1778166000@spectra-london.org.uk
SUMMARY:Sexual health awareness & free condoms @ Willesden Green Library
DESCRIPTION:Our outreach sessions are safe\, inclusive spaces where you can talk openly about your sexual health and wellbeing with our friendly team. \nAll events are risk assessed and may be subject to change. For updates\, follow us on Instagram: @spectra_london
URL:https://spectra-london.org.uk/event/sexual-health-awareness-free-condoms-willesden-green-library-5/
LOCATION:Willesden Green Library\, 95 High Rd\, NW10 2SF
CATEGORIES:Free condoms & Info
END:VEVENT
BEGIN:VEVENT
DTSTART;TZID=Europe/London:20260507T110000
DTEND;TZID=Europe/London:20260507T140000
DTSTAMP:20260425T123417
CREATED:20260424T144741Z
LAST-MODIFIED:20260424T144741Z
UID:10000189-1778151600-1778162400@spectra-london.org.uk
SUMMARY:Sexual health awareness & free condoms @ Kingsbury Library
DESCRIPTION:Our outreach sessions are safe\, inclusive spaces where you can talk openly about your sexual health and wellbeing with our friendly team. \nAll events are risk assessed and may be subject to change. For updates\, follow us on Instagram: @spectra_london
URL:https://spectra-london.org.uk/event/sexual-health-awareness-free-condoms-kingsbury-library/
LOCATION:Kingsbury Library\, Kingsbury Rd\, London\, Greater London\, NW9 9HE\, United Kingdom
CATEGORIES:Free condoms & Info
END:VEVENT
BEGIN:VEVENT
DTSTART;TZID=Europe/London:20260505T150000
DTEND;TZID=Europe/London:20260505T180000
DTSTAMP:20260425T123417
CREATED:20260424T144430Z
LAST-MODIFIED:20260424T144430Z
UID:10000187-1777993200-1778004000@spectra-london.org.uk
SUMMARY:HIV/STI testing & Free Condoms @ Whitton Library
DESCRIPTION:We will be conducting this session with our partners from KUNSAKA. \nOur outreach sessions are safe\, inclusive spaces where you can talk openly about your sexual health and wellbeing with our friendly team. \nAll events are risk assessed and may be subject to change. For updates\, follow us on Instagram: @spectra_london
URL:https://spectra-london.org.uk/event/hiv-sti-testing-free-condoms-whitton-library-6/
LOCATION:Whitton Library\, 141 Nelson Rd\, Twickenham\, London\, TW2 7BB\, United Kingdom
CATEGORIES:Free condoms & Info,HIV testing
ORGANIZER;CN="Spectra":MAILTO:info@spectra-london.org.uk
END:VEVENT
BEGIN:VEVENT
DTSTART;TZID=Europe/London:20260505T110000
DTEND;TZID=Europe/London:20260505T140000
DTSTAMP:20260425T123417
CREATED:20260424T144314Z
LAST-MODIFIED:20260424T144314Z
UID:10000186-1777978800-1777989600@spectra-london.org.uk
SUMMARY:HIV/STI Testing & Free Condoms @ Olympic House
DESCRIPTION:Our outreach sessions are safe\, inclusive spaces where you can talk openly about your sexual health and wellbeing with our friendly team. \nAll events are risk assessed and may be subject to change. For updates\, follow us on Instagram: @spectra_london
URL:https://spectra-london.org.uk/event/hiv-sti-testing-free-condoms-olympic-house-4/
LOCATION:Olympic House\, Grove Lane\, Uxbridge\, London\, UB8 3RG\, United Kingdom
CATEGORIES:Free condoms & Info,HIV testing
ORGANIZER;CN="Spectra":MAILTO:info@spectra-london.org.uk
END:VEVENT
BEGIN:VEVENT
DTSTART;TZID=Europe/London:20260505T103000
DTEND;TZID=Europe/London:20260505T140000
DTSTAMP:20260425T123417
CREATED:20260424T144245Z
LAST-MODIFIED:20260424T144245Z
UID:10000185-1777977000-1777989600@spectra-london.org.uk
SUMMARY:Sexual health awareness\, HIV/STI testing & free condoms @ Chalkhill Community Centre
DESCRIPTION:Our outreach sessions are safe\, inclusive spaces where you can talk openly about your sexual health and wellbeing with our friendly team. \nAll events are risk assessed and may be subject to change. For updates\, follow us on Instagram: @spectra_london
URL:https://spectra-london.org.uk/event/sexual-health-awareness-hiv-sti-testing-free-condoms-chalkhill-community-centre-6/
LOCATION:Chalkhill Community Centre\, 113 Chaikhill Rd\, Wembley Park\, London\, Greater London\, HA9 9FX\, United Kingdom
CATEGORIES:Free condoms & Info,HIV testing
END:VEVENT
BEGIN:VEVENT
DTSTART;TZID=Europe/London:20260501T133000
DTEND;TZID=Europe/London:20260501T173000
DTSTAMP:20260425T123417
CREATED:20260424T142834Z
LAST-MODIFIED:20260424T142834Z
UID:10000184-1777642200-1777656600@spectra-london.org.uk
SUMMARY:Sexual Health Information\, HIV & STIs Testing and Free Condoms at Active Communities Hub (ACH) Centrale Shopping Centre
DESCRIPTION:Our outreach sessions are safe\, inclusive spaces where you can talk openly about your sexual health and wellbeing with our friendly team. \nAll events are risk assessed and may be subject to change. For updates\, follow us on Instagram: @spectra_london
URL:https://spectra-london.org.uk/event/sexual-health-information-hiv-stis-testing-and-free-condoms-at-active-communities-hub-ach-centrale-shopping-centre-5/
LOCATION:Active Communities Hub\, Centrale Shopping Centre\, Upper Mall\, Opposite H&M\, London\, Greater London\, CR0 1TY\, United Kingdom
CATEGORIES:Free condoms & Info
END:VEVENT
BEGIN:VEVENT
DTSTART;TZID=Europe/London:20260430T150000
DTEND;TZID=Europe/London:20260430T183000
DTSTAMP:20260425T123417
CREATED:20260424T142729Z
LAST-MODIFIED:20260424T142729Z
UID:10000183-1777561200-1777573800@spectra-london.org.uk
SUMMARY:Sexual health awareness & free condoms @ Botwell Green Library
DESCRIPTION:Our outreach sessions are safe\, inclusive spaces where you can talk openly about your sexual health and wellbeing with our friendly team. \nAll events are risk assessed and may be subject to change. For updates\, follow us on Instagram: @spectra_london
URL:https://spectra-london.org.uk/event/sexual-health-awareness-free-condoms-botwell-green-library/
LOCATION:Botwell Green Library\, East Ave\, Hayes Town Hayes\, London\, UB3 2HW\, United Kingdom
CATEGORIES:Free condoms & Info,HIV testing
END:VEVENT
BEGIN:VEVENT
DTSTART;TZID=Europe/London:20260429T173000
DTEND;TZID=Europe/London:20260429T193000
DTSTAMP:20260425T123417
CREATED:20260305T105855Z
LAST-MODIFIED:20260305T133339Z
UID:10000114-1777483800-1777491000@spectra-london.org.uk
SUMMARY:Non-Binary Online Group
DESCRIPTION:Spectra’s Empowerment and Support programme’s peer led Non-Binary and Trans Online Groups offer an opportunity for a diverse range of people who identify on the trans and non-binary spectrum to meet and engage like-minded individuals to explore\, discuss and support each other in a safe\, welcoming space. Addressing a range of issues faced by individuals – social isolation\, stigma\, prejudice and transphobia\, that can lead to gender dysphoria\, isolation and poor mental health. \nIf you have any questions or would like to have further discussions around your access needs prior to joining the group\, please email us at Trans@spectra-london.org.uk.
URL:https://spectra-london.org.uk/event/non-binary-online-group-2/2026-04-29/
LOCATION:https://spectra-london.org.uk/event/non-binary-online-group-2/2026-04-29/
CATEGORIES:Trans & Non-Binary Groups
ORGANIZER;CN="Spectra":MAILTO:info@spectra-london.org.uk
END:VEVENT
BEGIN:VEVENT
DTSTART;TZID=Europe/London:20260429T110000
DTEND;TZID=Europe/London:20260429T140000
DTSTAMP:20260425T123417
CREATED:20260325T115658Z
LAST-MODIFIED:20260325T115658Z
UID:10000181-1777460400-1777471200@spectra-london.org.uk
SUMMARY:HIV Testing & Free Condoms @ Yiewsley & West Drayton Community Centre
DESCRIPTION:Our outreach sessions are safe\, inclusive spaces where you can talk openly about your sexual health and wellbeing with our friendly team. \nAll events are risk assessed and may be subject to change. For updates\, follow us on Instagram: @spectra_london
URL:https://spectra-london.org.uk/event/hiv-testing-free-condoms-yiewsley-west-drayton-community-centre-13/
LOCATION:West Drayton and Yiewsley Community Centre\, 228 Harmondsworth Road\, London\, UB7 9JL\, United Kingdom
CATEGORIES:Free condoms & Info,HIV testing
ORGANIZER;CN="Spectra":MAILTO:info@spectra-london.org.uk
END:VEVENT
BEGIN:VEVENT
DTSTART;TZID=Europe/London:20260429T110000
DTEND;TZID=Europe/London:20260429T140000
DTSTAMP:20260425T123417
CREATED:20260325T115628Z
LAST-MODIFIED:20260325T115628Z
UID:10000180-1777460400-1777471200@spectra-london.org.uk
SUMMARY:Sexual health awareness & free condoms @ Wembley Library
DESCRIPTION:Our outreach sessions are safe\, inclusive spaces where you can talk openly about your sexual health and wellbeing with our friendly team. \nAll events are risk assessed and may be subject to change. For updates\, follow us on Instagram: @spectra_london
URL:https://spectra-london.org.uk/event/sexual-health-awareness-free-condoms-wembley-library-3/
LOCATION:Wembley Library\, 32 Engineers Way\, Wembley Park\, Wembley\, London\, Greater London\, HA9 8TS\, United Kingdom
CATEGORIES:Free condoms & Info
END:VEVENT
BEGIN:VEVENT
DTSTART;TZID=Europe/London:20260428T103000
DTEND;TZID=Europe/London:20260428T140000
DTSTAMP:20260425T123417
CREATED:20260325T115523Z
LAST-MODIFIED:20260325T115523Z
UID:10000179-1777372200-1777384800@spectra-london.org.uk
SUMMARY:Sexual health awareness\, HIV/STI testing & free condoms @ Chalkhill Community Centre
DESCRIPTION:Our outreach sessions are safe\, inclusive spaces where you can talk openly about your sexual health and wellbeing with our friendly team. \nAll events are risk assessed and may be subject to change. For updates\, follow us on Instagram: @spectra_london
URL:https://spectra-london.org.uk/event/sexual-health-awareness-hiv-sti-testing-free-condoms-chalkhill-community-centre-5/
LOCATION:Chalkhill Community Centre\, 113 Chaikhill Rd\, Wembley Park\, London\, Greater London\, HA9 9FX\, United Kingdom
CATEGORIES:Free condoms & Info,HIV testing
END:VEVENT
BEGIN:VEVENT
DTSTART;TZID=Europe/London:20260427T143000
DTEND;TZID=Europe/London:20260427T170000
DTSTAMP:20260425T123417
CREATED:20260325T115446Z
LAST-MODIFIED:20260325T115446Z
UID:10000178-1777300200-1777309200@spectra-london.org.uk
SUMMARY:HIV/STI testing & Free Condoms @ The Uxbridge Community Centre
DESCRIPTION:Our outreach sessions are safe\, inclusive spaces where you can talk openly about your sexual health and wellbeing with our friendly team. \nAll events are risk assessed and may be subject to change. For updates\, follow us on Instagram: @spectra_london
URL:https://spectra-london.org.uk/event/hiv-sti-testing-free-condoms-the-uxbridge-community-centre-8/
LOCATION:The Uxbridge Centre\, 32b The Greenway\, Uxbridge\, UB8 2PJ\, United Kingdom
CATEGORIES:Free condoms & Info,HIV testing
ORGANIZER;CN="Spectra":MAILTO:info@spectra-london.org.uk
END:VEVENT
BEGIN:VEVENT
DTSTART;TZID=Europe/London:20260425T090000
DTEND;TZID=Europe/London:20260425T120000
DTSTAMP:20260425T123417
CREATED:20260424T142543Z
LAST-MODIFIED:20260424T142543Z
UID:10000182-1777107600-1777118400@spectra-london.org.uk
SUMMARY:HIV Testing & Free Condoms @ Lantern Hub
DESCRIPTION:Our outreach sessions are safe\, inclusive spaces where you can talk openly about your sexual health and wellbeing with our friendly team. \nAll events are risk assessed and may be subject to change. For updates\, follow us on Instagram: @spectra_london
URL:https://spectra-london.org.uk/event/hiv-testing-free-condoms-lantern-hub/
LOCATION:Lantern Hub\, Lantern Methodist Church\, Tolverne Road\, London\, Greater London\, SW20 8RA\, United Kingdom
CATEGORIES:Free condoms & Info,HIV testing
ORGANIZER;CN="Spectra":MAILTO:info@spectra-london.org.uk
END:VEVENT
BEGIN:VEVENT
DTSTART;TZID=Europe/London:20260424T110000
DTEND;TZID=Europe/London:20260424T140000
DTSTAMP:20260425T123417
CREATED:20260320T132838Z
LAST-MODIFIED:20260320T132838Z
UID:10000176-1777028400-1777039200@spectra-london.org.uk
SUMMARY:HIV Testing & Free Condoms @ Yiewsley & West Drayton Community Centre
DESCRIPTION:Our outreach sessions are safe\, inclusive spaces where you can talk openly about your sexual health and wellbeing with our friendly team. \nAll events are risk assessed and may be subject to change. For updates\, follow us on Instagram: @spectra_london
URL:https://spectra-london.org.uk/event/hiv-testing-free-condoms-yiewsley-west-drayton-community-centre-12/
LOCATION:West Drayton and Yiewsley Community Centre\, 228 Harmondsworth Road\, London\, UB7 9JL\, United Kingdom
CATEGORIES:Free condoms & Info,HIV testing
ORGANIZER;CN="Spectra":MAILTO:info@spectra-london.org.uk
END:VEVENT
BEGIN:VEVENT
DTSTART;TZID=Europe/London:20260422T110000
DTEND;TZID=Europe/London:20260422T150000
DTSTAMP:20260425T123417
CREATED:20260311T174215Z
LAST-MODIFIED:20260311T174215Z
UID:10000167-1776855600-1776870000@spectra-london.org.uk
SUMMARY:Sexual health awareness\, HIV/STI testing & free condoms @ Ealing Town Hall Testing Van
DESCRIPTION:Our outreach sessions are safe\, inclusive spaces where you can talk openly about your sexual health and wellbeing with our friendly team. \nAll events are risk assessed and may be subject to change. For updates\, follow us on Instagram: @spectra_london
URL:https://spectra-london.org.uk/event/sexual-health-awareness-hiv-sti-testing-free-condoms-ealing-town-hall-testing-van-5/
LOCATION:Ealing Town Hall\, New Broadway\, London\, W5 2BY\, United Kingdom
CATEGORIES:Free condoms & Info,HIV testing
ORGANIZER;CN="Spectra":MAILTO:info@spectra-london.org.uk
END:VEVENT
BEGIN:VEVENT
DTSTART;TZID=Europe/London:20260420T143000
DTEND;TZID=Europe/London:20260420T170000
DTSTAMP:20260425T123417
CREATED:20260311T174145Z
LAST-MODIFIED:20260311T174145Z
UID:10000166-1776695400-1776704400@spectra-london.org.uk
SUMMARY:HIV/STI testing & Free Condoms @ The Uxbridge Community Centre
DESCRIPTION:Our outreach sessions are safe\, inclusive spaces where you can talk openly about your sexual health and wellbeing with our friendly team. \nAll events are risk assessed and may be subject to change. For updates\, follow us on Instagram: @spectra_london
URL:https://spectra-london.org.uk/event/hiv-sti-testing-free-condoms-the-uxbridge-community-centre-6/
LOCATION:The Uxbridge Centre\, 32b The Greenway\, Uxbridge\, UB8 2PJ\, United Kingdom
CATEGORIES:Free condoms & Info,HIV testing
ORGANIZER;CN="Spectra":MAILTO:info@spectra-london.org.uk
END:VEVENT
BEGIN:VEVENT
DTSTART;TZID=Europe/London:20260415T173000
DTEND;TZID=Europe/London:20260415T193000
DTSTAMP:20260425T123417
CREATED:20260305T105855Z
LAST-MODIFIED:20260305T133339Z
UID:10000113-1776274200-1776281400@spectra-london.org.uk
SUMMARY:Non-Binary Online Group
DESCRIPTION:Spectra’s Empowerment and Support programme’s peer led Non-Binary and Trans Online Groups offer an opportunity for a diverse range of people who identify on the trans and non-binary spectrum to meet and engage like-minded individuals to explore\, discuss and support each other in a safe\, welcoming space. Addressing a range of issues faced by individuals – social isolation\, stigma\, prejudice and transphobia\, that can lead to gender dysphoria\, isolation and poor mental health. \nIf you have any questions or would like to have further discussions around your access needs prior to joining the group\, please email us at Trans@spectra-london.org.uk.
URL:https://spectra-london.org.uk/event/non-binary-online-group-2/2026-04-15/
LOCATION:https://spectra-london.org.uk/event/non-binary-online-group-2/2026-04-15/
CATEGORIES:Trans & Non-Binary Groups
ORGANIZER;CN="Spectra":MAILTO:info@spectra-london.org.uk
END:VEVENT
BEGIN:VEVENT
DTSTART;TZID=Europe/London:20260415T110000
DTEND;TZID=Europe/London:20260415T140000
DTSTAMP:20260425T123417
CREATED:20260320T132709Z
LAST-MODIFIED:20260320T132709Z
UID:10000174-1776250800-1776261600@spectra-london.org.uk
SUMMARY:HIV Testing & Free Condoms @ Yiewsley & West Drayton Community Centre
DESCRIPTION:Our outreach sessions are safe\, inclusive spaces where you can talk openly about your sexual health and wellbeing with our friendly team. \nAll events are risk assessed and may be subject to change. For updates\, follow us on Instagram: @spectra_london
URL:https://spectra-london.org.uk/event/hiv-testing-free-condoms-yiewsley-west-drayton-community-centre-11/
LOCATION:West Drayton and Yiewsley Community Centre\, 228 Harmondsworth Road\, London\, UB7 9JL\, United Kingdom
CATEGORIES:Free condoms & Info,HIV testing
ORGANIZER;CN="Spectra":MAILTO:info@spectra-london.org.uk
END:VEVENT
END:VCALENDAR