BEGIN:VCALENDAR
VERSION:2.0
PRODID:-//Spectra - ECPv6.15.20//NONSGML v1.0//EN
CALSCALE:GREGORIAN
METHOD:PUBLISH
X-WR-CALNAME:Spectra
X-ORIGINAL-URL:https://spectra-london.org.uk
X-WR-CALDESC:Events for Spectra
REFRESH-INTERVAL;VALUE=DURATION:PT1H
X-Robots-Tag:noindex
X-PUBLISHED-TTL:PT1H
BEGIN:VTIMEZONE
TZID:Europe/London
BEGIN:DAYLIGHT
TZOFFSETFROM:+0000
TZOFFSETTO:+0100
TZNAME:BST
DTSTART:20250330T010000
END:DAYLIGHT
BEGIN:STANDARD
TZOFFSETFROM:+0100
TZOFFSETTO:+0000
TZNAME:GMT
DTSTART:20251026T010000
END:STANDARD
BEGIN:DAYLIGHT
TZOFFSETFROM:+0000
TZOFFSETTO:+0100
TZNAME:BST
DTSTART:20260329T010000
END:DAYLIGHT
BEGIN:STANDARD
TZOFFSETFROM:+0100
TZOFFSETTO:+0000
TZNAME:GMT
DTSTART:20261025T010000
END:STANDARD
BEGIN:DAYLIGHT
TZOFFSETFROM:+0000
TZOFFSETTO:+0100
TZNAME:BST
DTSTART:20270328T010000
END:DAYLIGHT
BEGIN:STANDARD
TZOFFSETFROM:+0100
TZOFFSETTO:+0000
TZNAME:GMT
DTSTART:20271031T010000
END:STANDARD
END:VTIMEZONE
BEGIN:VEVENT
DTSTART;TZID=Europe/London:20260605T110000
DTEND;TZID=Europe/London:20260605T150000
DTSTAMP:20260425T195736
CREATED:20260424T153816Z
LAST-MODIFIED:20260424T153816Z
UID:10000215-1780657200-1780671600@spectra-london.org.uk
SUMMARY:Sexual Health Information\, HIV & STIs Testing and Free Condoms at Queen Mary Hall
DESCRIPTION:All are welcome on the first Friday of every month at Queen Mary Hall\, where volunteer-run charity RBKares and local partners support the mental\, physical\, financial and digital health of local residents in need. This free one-stop shop of vital services includes health checks\, liver scans\, haircuts\, employment support\, bike repairs\, energy vouchers\, benefit support\, mental health support\, Simcards\, clothes\, toiletries\, as well as delicious soup and cake. \nSpectra is there to provide free HIV tests\, support with STI tests and to answer all your sexual health related questions.  \nOur outreach sessions are safe\, inclusive spaces where you can talk openly about your sexual health and wellbeing with our friendly team. \nAll events are risk assessed and may be subject to change. For updates\, follow us on Instagram: @spectra_london
URL:https://spectra-london.org.uk/event/sexual-health-information-hiv-stis-testing-and-free-condoms-at-queen-mary-hall-4/
LOCATION:Queen Mary Hall\, Cambridge Gardens\, London\, KT1 3NJ\, United Kingdom
CATEGORIES:Free condoms & Info,HIV testing
ORGANIZER;CN="Spectra":MAILTO:info@spectra-london.org.uk
END:VEVENT
END:VCALENDAR