BEGIN:VCALENDAR
VERSION:2.0
PRODID:-//Spectra - ECPv6.15.20//NONSGML v1.0//EN
CALSCALE:GREGORIAN
METHOD:PUBLISH
X-ORIGINAL-URL:https://spectra-london.org.uk
X-WR-CALDESC:Events for Spectra
REFRESH-INTERVAL;VALUE=DURATION:PT1H
X-Robots-Tag:noindex
X-PUBLISHED-TTL:PT1H
BEGIN:VTIMEZONE
TZID:Europe/London
BEGIN:DAYLIGHT
TZOFFSETFROM:+0000
TZOFFSETTO:+0100
TZNAME:BST
DTSTART:20250330T010000
END:DAYLIGHT
BEGIN:STANDARD
TZOFFSETFROM:+0100
TZOFFSETTO:+0000
TZNAME:GMT
DTSTART:20251026T010000
END:STANDARD
BEGIN:DAYLIGHT
TZOFFSETFROM:+0000
TZOFFSETTO:+0100
TZNAME:BST
DTSTART:20260329T010000
END:DAYLIGHT
BEGIN:STANDARD
TZOFFSETFROM:+0100
TZOFFSETTO:+0000
TZNAME:GMT
DTSTART:20261025T010000
END:STANDARD
BEGIN:DAYLIGHT
TZOFFSETFROM:+0000
TZOFFSETTO:+0100
TZNAME:BST
DTSTART:20270328T010000
END:DAYLIGHT
BEGIN:STANDARD
TZOFFSETFROM:+0100
TZOFFSETTO:+0000
TZNAME:GMT
DTSTART:20271031T010000
END:STANDARD
END:VTIMEZONE
BEGIN:VEVENT
DTSTART;TZID=Europe/London:20260429T110000
DTEND;TZID=Europe/London:20260429T140000
DTSTAMP:20260425T170109
CREATED:20260325T115658Z
LAST-MODIFIED:20260325T115658Z
UID:10000181-1777460400-1777471200@spectra-london.org.uk
SUMMARY:HIV Testing & Free Condoms @ Yiewsley & West Drayton Community Centre
DESCRIPTION:Our outreach sessions are safe\, inclusive spaces where you can talk openly about your sexual health and wellbeing with our friendly team. \nAll events are risk assessed and may be subject to change. For updates\, follow us on Instagram: @spectra_london
URL:https://spectra-london.org.uk/event/hiv-testing-free-condoms-yiewsley-west-drayton-community-centre-13/
LOCATION:West Drayton and Yiewsley Community Centre\, 228 Harmondsworth Road\, London\, UB7 9JL\, United Kingdom
CATEGORIES:Free condoms & Info,HIV testing
ORGANIZER;CN="Spectra":MAILTO:info@spectra-london.org.uk
END:VEVENT
BEGIN:VEVENT
DTSTART;TZID=Europe/London:20260430T150000
DTEND;TZID=Europe/London:20260430T183000
DTSTAMP:20260425T170109
CREATED:20260424T142729Z
LAST-MODIFIED:20260424T142729Z
UID:10000183-1777561200-1777573800@spectra-london.org.uk
SUMMARY:Sexual health awareness & free condoms @ Botwell Green Library
DESCRIPTION:Our outreach sessions are safe\, inclusive spaces where you can talk openly about your sexual health and wellbeing with our friendly team. \nAll events are risk assessed and may be subject to change. For updates\, follow us on Instagram: @spectra_london
URL:https://spectra-london.org.uk/event/sexual-health-awareness-free-condoms-botwell-green-library/
LOCATION:Botwell Green Library\, East Ave\, Hayes Town Hayes\, London\, UB3 2HW\, United Kingdom
CATEGORIES:Free condoms & Info,HIV testing
END:VEVENT
BEGIN:VEVENT
DTSTART;TZID=Europe/London:20260505T103000
DTEND;TZID=Europe/London:20260505T140000
DTSTAMP:20260425T170109
CREATED:20260424T144245Z
LAST-MODIFIED:20260424T144245Z
UID:10000185-1777977000-1777989600@spectra-london.org.uk
SUMMARY:Sexual health awareness\, HIV/STI testing & free condoms @ Chalkhill Community Centre
DESCRIPTION:Our outreach sessions are safe\, inclusive spaces where you can talk openly about your sexual health and wellbeing with our friendly team. \nAll events are risk assessed and may be subject to change. For updates\, follow us on Instagram: @spectra_london
URL:https://spectra-london.org.uk/event/sexual-health-awareness-hiv-sti-testing-free-condoms-chalkhill-community-centre-6/
LOCATION:Chalkhill Community Centre\, 113 Chaikhill Rd\, Wembley Park\, London\, Greater London\, HA9 9FX\, United Kingdom
CATEGORIES:Free condoms & Info,HIV testing
END:VEVENT
BEGIN:VEVENT
DTSTART;TZID=Europe/London:20260505T110000
DTEND;TZID=Europe/London:20260505T140000
DTSTAMP:20260425T170109
CREATED:20260424T144314Z
LAST-MODIFIED:20260424T144314Z
UID:10000186-1777978800-1777989600@spectra-london.org.uk
SUMMARY:HIV/STI Testing & Free Condoms @ Olympic House
DESCRIPTION:Our outreach sessions are safe\, inclusive spaces where you can talk openly about your sexual health and wellbeing with our friendly team. \nAll events are risk assessed and may be subject to change. For updates\, follow us on Instagram: @spectra_london
URL:https://spectra-london.org.uk/event/hiv-sti-testing-free-condoms-olympic-house-4/
LOCATION:Olympic House\, Grove Lane\, Uxbridge\, London\, UB8 3RG\, United Kingdom
CATEGORIES:Free condoms & Info,HIV testing
ORGANIZER;CN="Spectra":MAILTO:info@spectra-london.org.uk
END:VEVENT
BEGIN:VEVENT
DTSTART;TZID=Europe/London:20260505T150000
DTEND;TZID=Europe/London:20260505T180000
DTSTAMP:20260425T170109
CREATED:20260424T144430Z
LAST-MODIFIED:20260424T144430Z
UID:10000187-1777993200-1778004000@spectra-london.org.uk
SUMMARY:HIV/STI testing & Free Condoms @ Whitton Library
DESCRIPTION:We will be conducting this session with our partners from KUNSAKA. \nOur outreach sessions are safe\, inclusive spaces where you can talk openly about your sexual health and wellbeing with our friendly team. \nAll events are risk assessed and may be subject to change. For updates\, follow us on Instagram: @spectra_london
URL:https://spectra-london.org.uk/event/hiv-sti-testing-free-condoms-whitton-library-6/
LOCATION:Whitton Library\, 141 Nelson Rd\, Twickenham\, London\, TW2 7BB\, United Kingdom
CATEGORIES:Free condoms & Info,HIV testing
ORGANIZER;CN="Spectra":MAILTO:info@spectra-london.org.uk
END:VEVENT
BEGIN:VEVENT
DTSTART;TZID=Europe/London:20260507T150000
DTEND;TZID=Europe/London:20260507T180000
DTSTAMP:20260425T170109
CREATED:20260424T144855Z
LAST-MODIFIED:20260424T144855Z
UID:10000190-1778166000-1778176800@spectra-london.org.uk
SUMMARY:Sexual Health Information & free condoms @ Oak Farm Library
DESCRIPTION:Our outreach sessions are safe\, inclusive spaces where you can talk openly about your sexual health and wellbeing with our friendly team. \nAll events are risk assessed and may be subject to change. For updates\, follow us on Instagram: @spectra_london
URL:https://spectra-london.org.uk/event/sexual-health-information-free-condoms-oak-farm-library/
LOCATION:Oak Farm Library\, Sutton Ct Rd\, Uxbridge\, London\, UB10 9PB\, United Kingdom
CATEGORIES:Free condoms & Info,HIV testing
ORGANIZER;CN="Spectra":MAILTO:info@spectra-london.org.uk
END:VEVENT
BEGIN:VEVENT
DTSTART;TZID=Europe/London:20260508T110000
DTEND;TZID=Europe/London:20260508T140000
DTSTAMP:20260425T170109
CREATED:20260424T145050Z
LAST-MODIFIED:20260424T145050Z
UID:10000192-1778238000-1778248800@spectra-london.org.uk
SUMMARY:HIV testing & free condoms @ Yiewsley & West Drayton Community Centre
DESCRIPTION:Our outreach sessions are safe\, inclusive spaces where you can talk openly about your sexual health and wellbeing with our friendly team. \nAll events are risk assessed and may be subject to change. For updates\, follow us on Instagram: @spectra_london
URL:https://spectra-london.org.uk/event/hiv-testing-free-condoms-yiewsley-west-drayton-community-centre-14/
LOCATION:West Drayton and Yiewsley Community Centre\, 228 Harmondsworth Road\, London\, UB7 9JL\, United Kingdom
CATEGORIES:Free condoms & Info,HIV testing
ORGANIZER;CN="Spectra":MAILTO:info@spectra-london.org.uk
END:VEVENT
BEGIN:VEVENT
DTSTART;TZID=Europe/London:20260511T103000
DTEND;TZID=Europe/London:20260511T123000
DTSTAMP:20260425T170109
CREATED:20260424T145940Z
LAST-MODIFIED:20260424T145940Z
UID:10000194-1778495400-1778502600@spectra-london.org.uk
SUMMARY:Sexual Health Information & Free Condoms @ Harefield Library
DESCRIPTION:Our outreach sessions are safe\, inclusive spaces where you can talk openly about your sexual health and wellbeing with our friendly team. \nAll events are risk assessed and may be subject to change. For updates\, follow us on Instagram: @spectra_london
URL:https://spectra-london.org.uk/event/sexual-health-information-free-condoms-harefield-library/
LOCATION:Harefield Library\, Park Ln\, Harefield\, Uxbridge\, London\, Greater London\, UB9 6BJ\, United Kingdom
CATEGORIES:Free condoms & Info,HIV testing
ORGANIZER;CN="Spectra":MAILTO:info@spectra-london.org.uk
END:VEVENT
BEGIN:VEVENT
DTSTART;TZID=Europe/London:20260513T110000
DTEND;TZID=Europe/London:20260513T140000
DTSTAMP:20260425T170109
CREATED:20260424T150135Z
LAST-MODIFIED:20260424T150135Z
UID:10000195-1778670000-1778680800@spectra-london.org.uk
SUMMARY:HIV testing & free condoms @ Yiewsley & West Drayton Community Centre
DESCRIPTION:Our outreach sessions are safe\, inclusive spaces where you can talk openly about your sexual health and wellbeing with our friendly team. \nAll events are risk assessed and may be subject to change. For updates\, follow us on Instagram: @spectra_london
URL:https://spectra-london.org.uk/event/hiv-testing-free-condoms-yiewsley-west-drayton-community-centre-15/
LOCATION:West Drayton and Yiewsley Community Centre\, 228 Harmondsworth Road\, London\, UB7 9JL\, United Kingdom
CATEGORIES:Free condoms & Info,HIV testing
ORGANIZER;CN="Spectra":MAILTO:info@spectra-london.org.uk
END:VEVENT
BEGIN:VEVENT
DTSTART;TZID=Europe/London:20260515T120000
DTEND;TZID=Europe/London:20260515T150000
DTSTAMP:20260425T170109
CREATED:20260424T151038Z
LAST-MODIFIED:20260424T151038Z
UID:10000197-1778846400-1778857200@spectra-london.org.uk
SUMMARY:Sexual Health Awareness & HIV/STI testing @ Southfields Library
DESCRIPTION:Our outreach sessions are safe\, inclusive spaces where you can talk openly about your sexual health and wellbeing with our friendly team. \nAll events are risk assessed and may be subject to change. For updates\, follow us on Instagram: @spectra_london
URL:https://spectra-london.org.uk/event/sexual-health-awareness-hiv-sti-testing-southfields-library-3/
LOCATION:Southfields Library\, 300 Wimbledon Park Rd\, London\, SW19 6NL\, United Kingdom
CATEGORIES:HIV testing
ORGANIZER;CN="Spectra":MAILTO:info@spectra-london.org.uk
END:VEVENT
BEGIN:VEVENT
DTSTART;TZID=Europe/London:20260518T143000
DTEND;TZID=Europe/London:20260518T170000
DTSTAMP:20260425T170109
CREATED:20260424T151236Z
LAST-MODIFIED:20260424T151236Z
UID:10000198-1779114600-1779123600@spectra-london.org.uk
SUMMARY:HIV/STI testing & Free Condoms @ The Uxbridge Community Centre
DESCRIPTION:Our outreach sessions are safe\, inclusive spaces where you can talk openly about your sexual health and wellbeing with our friendly team. \nAll events are risk assessed and may be subject to change. For updates\, follow us on Instagram: @spectra_london
URL:https://spectra-london.org.uk/event/hiv-sti-testing-free-condoms-the-uxbridge-community-centre-9/
LOCATION:The Uxbridge Centre\, 32b The Greenway\, Uxbridge\, UB8 2PJ\, United Kingdom
CATEGORIES:Free condoms & Info,HIV testing
ORGANIZER;CN="Spectra":MAILTO:info@spectra-london.org.uk
END:VEVENT
BEGIN:VEVENT
DTSTART;TZID=Europe/London:20260519T103000
DTEND;TZID=Europe/London:20260519T140000
DTSTAMP:20260425T170109
CREATED:20260424T151436Z
LAST-MODIFIED:20260424T151436Z
UID:10000200-1779186600-1779199200@spectra-london.org.uk
SUMMARY:Sexual health awareness\, HIV/STI testing & free condoms @ Chalkhill Community Centre
DESCRIPTION:Our outreach sessions are safe\, inclusive spaces where you can talk openly about your sexual health and wellbeing with our friendly team. \nAll events are risk assessed and may be subject to change. For updates\, follow us on Instagram: @spectra_london
URL:https://spectra-london.org.uk/event/sexual-health-awareness-hiv-sti-testing-free-condoms-chalkhill-community-centre-7/
LOCATION:Chalkhill Community Centre\, 113 Chaikhill Rd\, Wembley Park\, London\, Greater London\, HA9 9FX\, United Kingdom
CATEGORIES:Free condoms & Info,HIV testing
END:VEVENT
BEGIN:VEVENT
DTSTART;TZID=Europe/London:20260520T110000
DTEND;TZID=Europe/London:20260520T150000
DTSTAMP:20260425T170109
CREATED:20260424T151658Z
LAST-MODIFIED:20260424T151658Z
UID:10000201-1779274800-1779289200@spectra-london.org.uk
SUMMARY:HIV Testing & Free Condoms @ Testing Bus at Ealing Town Hall
DESCRIPTION:Our outreach sessions are safe\, inclusive spaces where you can talk openly about your sexual health and wellbeing with our friendly team. \nAll events are risk assessed and may be subject to change. For updates\, follow us on Instagram: @spectra_london
URL:https://spectra-london.org.uk/event/hiv-testing-free-condoms-testing-bus-at-ealing-town-hall-2/
LOCATION:Ealing Town Hall\, New Broadway\, London\, W5 2BY\, United Kingdom
CATEGORIES:Free condoms & Info,HIV testing
ORGANIZER;CN="Spectra":MAILTO:info@spectra-london.org.uk
END:VEVENT
BEGIN:VEVENT
DTSTART;TZID=Europe/London:20260521T110000
DTEND;TZID=Europe/London:20260521T140000
DTSTAMP:20260425T170109
CREATED:20260424T151902Z
LAST-MODIFIED:20260424T151902Z
UID:10000202-1779361200-1779372000@spectra-london.org.uk
SUMMARY:Sexual health awareness\, HIV/STI testing & free condoms @ Harlesden Library
DESCRIPTION:Our outreach sessions are safe\, inclusive spaces where you can talk openly about your sexual health and wellbeing with our friendly team. \nAll events are risk assessed and may be subject to change. For updates\, follow us on Instagram: @spectra_london
URL:https://spectra-london.org.uk/event/sexual-health-awareness-hiv-sti-testing-free-condoms-harlesden-library-4/
LOCATION:Harlesden Library\, Craven Park Rd\, London\, NW10 8SE\, United Kingdom
CATEGORIES:Free condoms & Info,HIV testing
ORGANIZER;CN="Spectra":MAILTO:info@spectra-london.org.uk
END:VEVENT
BEGIN:VEVENT
DTSTART;TZID=Europe/London:20260522T110000
DTEND;TZID=Europe/London:20260522T140000
DTSTAMP:20260425T170109
CREATED:20260424T151929Z
LAST-MODIFIED:20260424T151929Z
UID:10000203-1779447600-1779458400@spectra-london.org.uk
SUMMARY:HIV testing & free condoms @ Yiewsley & West Drayton Community Centre
DESCRIPTION:Our outreach sessions are safe\, inclusive spaces where you can talk openly about your sexual health and wellbeing with our friendly team. \nAll events are risk assessed and may be subject to change. For updates\, follow us on Instagram: @spectra_london
URL:https://spectra-london.org.uk/event/hiv-testing-free-condoms-yiewsley-west-drayton-community-centre-16/
LOCATION:West Drayton and Yiewsley Community Centre\, 228 Harmondsworth Road\, London\, UB7 9JL\, United Kingdom
CATEGORIES:Free condoms & Info,HIV testing
ORGANIZER;CN="Spectra":MAILTO:info@spectra-london.org.uk
END:VEVENT
BEGIN:VEVENT
DTSTART;TZID=Europe/London:20260525T143000
DTEND;TZID=Europe/London:20260525T170000
DTSTAMP:20260425T170109
CREATED:20260424T152712Z
LAST-MODIFIED:20260424T152712Z
UID:10000204-1779719400-1779728400@spectra-london.org.uk
SUMMARY:HIV/STI testing & Free Condoms @ The Uxbridge Community Centre
DESCRIPTION:Our outreach sessions are safe\, inclusive spaces where you can talk openly about your sexual health and wellbeing with our friendly team. \nAll events are risk assessed and may be subject to change. For updates\, follow us on Instagram: @spectra_london
URL:https://spectra-london.org.uk/event/hiv-sti-testing-free-condoms-the-uxbridge-community-centre-10/
LOCATION:The Uxbridge Centre\, 32b The Greenway\, Uxbridge\, UB8 2PJ\, United Kingdom
CATEGORIES:Free condoms & Info,HIV testing
ORGANIZER;CN="Spectra":MAILTO:info@spectra-london.org.uk
END:VEVENT
BEGIN:VEVENT
DTSTART;TZID=Europe/London:20260527T110000
DTEND;TZID=Europe/London:20260527T140000
DTSTAMP:20260425T170109
CREATED:20260424T152830Z
LAST-MODIFIED:20260424T152830Z
UID:10000205-1779879600-1779890400@spectra-london.org.uk
SUMMARY:HIV testing & free condoms @ Yiewsley & West Drayton Community Centre
DESCRIPTION:Our outreach sessions are safe\, inclusive spaces where you can talk openly about your sexual health and wellbeing with our friendly team. \nAll events are risk assessed and may be subject to change. For updates\, follow us on Instagram: @spectra_london
URL:https://spectra-london.org.uk/event/hiv-testing-free-condoms-yiewsley-west-drayton-community-centre-17/
LOCATION:West Drayton and Yiewsley Community Centre\, 228 Harmondsworth Road\, London\, UB7 9JL\, United Kingdom
CATEGORIES:Free condoms & Info,HIV testing
ORGANIZER;CN="Spectra":MAILTO:info@spectra-london.org.uk
END:VEVENT
BEGIN:VEVENT
DTSTART;TZID=Europe/London:20260528T150000
DTEND;TZID=Europe/London:20260528T183000
DTSTAMP:20260425T170109
CREATED:20260424T152858Z
LAST-MODIFIED:20260424T152858Z
UID:10000206-1779980400-1779993000@spectra-london.org.uk
SUMMARY:Sexual health awareness & free condoms @ Botwell Green Library
DESCRIPTION:Our outreach sessions are safe\, inclusive spaces where you can talk openly about your sexual health and wellbeing with our friendly team. \nAll events are risk assessed and may be subject to change. For updates\, follow us on Instagram: @spectra_london
URL:https://spectra-london.org.uk/event/sexual-health-awareness-free-condoms-botwell-green-library-2/
LOCATION:Botwell Green Library\, East Ave\, Hayes Town Hayes\, London\, UB3 2HW\, United Kingdom
CATEGORIES:Free condoms & Info,HIV testing
END:VEVENT
BEGIN:VEVENT
DTSTART;TZID=Europe/London:20260602T110000
DTEND;TZID=Europe/London:20260602T140000
DTSTAMP:20260425T170109
CREATED:20260424T152940Z
LAST-MODIFIED:20260424T152940Z
UID:10000207-1780398000-1780408800@spectra-london.org.uk
SUMMARY:HIV/STI Testing & Free Condoms @ Olympic House
DESCRIPTION:Our outreach sessions are safe\, inclusive spaces where you can talk openly about your sexual health and wellbeing with our friendly team. \nAll events are risk assessed and may be subject to change. For updates\, follow us on Instagram: @spectra_london
URL:https://spectra-london.org.uk/event/hiv-sti-testing-free-condoms-olympic-house-5/
LOCATION:Olympic House\, Grove Lane\, Uxbridge\, London\, UB8 3RG\, United Kingdom
CATEGORIES:Free condoms & Info,HIV testing
ORGANIZER;CN="Spectra":MAILTO:info@spectra-london.org.uk
END:VEVENT
BEGIN:VEVENT
DTSTART;TZID=Europe/London:20260602T150000
DTEND;TZID=Europe/London:20260602T180000
DTSTAMP:20260425T170109
CREATED:20260424T153201Z
LAST-MODIFIED:20260424T153201Z
UID:10000209-1780412400-1780423200@spectra-london.org.uk
SUMMARY:HIV/STI testing & Free Condoms @ Whitton Library
DESCRIPTION:We will be conducting this session with our partners from KUNSAKA. \nOur outreach sessions are safe\, inclusive spaces where you can talk openly about your sexual health and wellbeing with our friendly team. \nAll events are risk assessed and may be subject to change. For updates\, follow us on Instagram: @spectra_london
URL:https://spectra-london.org.uk/event/hiv-sti-testing-free-condoms-whitton-library-7/
LOCATION:Whitton Library\, 141 Nelson Rd\, Twickenham\, London\, TW2 7BB\, United Kingdom
CATEGORIES:Free condoms & Info,HIV testing
ORGANIZER;CN="Spectra":MAILTO:info@spectra-london.org.uk
END:VEVENT
BEGIN:VEVENT
DTSTART;TZID=Europe/London:20260603T110000
DTEND;TZID=Europe/London:20260603T150000
DTSTAMP:20260425T170109
CREATED:20260424T153526Z
LAST-MODIFIED:20260424T153526Z
UID:10000211-1780484400-1780498800@spectra-london.org.uk
SUMMARY:HIV Testing & Free Condoms @ Testing Bus at Ealing Town Hall
DESCRIPTION:Our outreach sessions are safe\, inclusive spaces where you can talk openly about your sexual health and wellbeing with our friendly team. \nAll events are risk assessed and may be subject to change. For updates\, follow us on Instagram: @spectra_london
URL:https://spectra-london.org.uk/event/hiv-testing-free-condoms-testing-bus-at-ealing-town-hall-3/
LOCATION:Ealing Town Hall\, New Broadway\, London\, W5 2BY\, United Kingdom
CATEGORIES:Free condoms & Info,HIV testing
ORGANIZER;CN="Spectra":MAILTO:info@spectra-london.org.uk
END:VEVENT
BEGIN:VEVENT
DTSTART;TZID=Europe/London:20260604T150000
DTEND;TZID=Europe/London:20260604T180000
DTSTAMP:20260425T170109
CREATED:20260424T153554Z
LAST-MODIFIED:20260424T153554Z
UID:10000212-1780585200-1780596000@spectra-london.org.uk
SUMMARY:Sexual Health Information & free condoms @ Oak Farm Library
DESCRIPTION:Our outreach sessions are safe\, inclusive spaces where you can talk openly about your sexual health and wellbeing with our friendly team. \nAll events are risk assessed and may be subject to change. For updates\, follow us on Instagram: @spectra_london
URL:https://spectra-london.org.uk/event/sexual-health-information-free-condoms-oak-farm-library-2/
LOCATION:Oak Farm Library\, Sutton Ct Rd\, Uxbridge\, London\, UB10 9PB\, United Kingdom
CATEGORIES:Free condoms & Info,HIV testing
ORGANIZER;CN="Spectra":MAILTO:info@spectra-london.org.uk
END:VEVENT
BEGIN:VEVENT
DTSTART;TZID=Europe/London:20260605T090000
DTEND;TZID=Europe/London:20260605T130000
DTSTAMP:20260425T170109
CREATED:20260424T153706Z
LAST-MODIFIED:20260424T153706Z
UID:10000213-1780650000-1780664400@spectra-london.org.uk
SUMMARY:HIV/STI testing & Free Condoms @ Circle Library
DESCRIPTION:Our outreach sessions are safe\, inclusive spaces where you can talk openly about your sexual health and wellbeing with our friendly team. \nAll events are risk assessed and may be subject to change. For updates\, follow us on Instagram: @spectra_london
URL:https://spectra-london.org.uk/event/hiv-sti-testing-free-condoms-circle-library-3/
LOCATION:Circle Library\, 424 Green Wrythe Ln\, Carshalton\, London\, SM5 1JJ\, United Kingdom
CATEGORIES:Free condoms & Info,HIV testing
ORGANIZER;CN="Spectra":MAILTO:info@spectra-london.org.uk
END:VEVENT
BEGIN:VEVENT
DTSTART;TZID=Europe/London:20260605T110000
DTEND;TZID=Europe/London:20260605T140000
DTSTAMP:20260425T170109
CREATED:20260424T153751Z
LAST-MODIFIED:20260424T153751Z
UID:10000214-1780657200-1780668000@spectra-london.org.uk
SUMMARY:HIV testing & free condoms @ Yiewsley & West Drayton Community Centre
DESCRIPTION:Our outreach sessions are safe\, inclusive spaces where you can talk openly about your sexual health and wellbeing with our friendly team. \nAll events are risk assessed and may be subject to change. For updates\, follow us on Instagram: @spectra_london
URL:https://spectra-london.org.uk/event/hiv-testing-free-condoms-yiewsley-west-drayton-community-centre-18/
LOCATION:West Drayton and Yiewsley Community Centre\, 228 Harmondsworth Road\, London\, UB7 9JL\, United Kingdom
CATEGORIES:Free condoms & Info,HIV testing
ORGANIZER;CN="Spectra":MAILTO:info@spectra-london.org.uk
END:VEVENT
BEGIN:VEVENT
DTSTART;TZID=Europe/London:20260605T110000
DTEND;TZID=Europe/London:20260605T150000
DTSTAMP:20260425T170109
CREATED:20260424T153816Z
LAST-MODIFIED:20260424T153816Z
UID:10000215-1780657200-1780671600@spectra-london.org.uk
SUMMARY:Sexual Health Information\, HIV & STIs Testing and Free Condoms at Queen Mary Hall
DESCRIPTION:All are welcome on the first Friday of every month at Queen Mary Hall\, where volunteer-run charity RBKares and local partners support the mental\, physical\, financial and digital health of local residents in need. This free one-stop shop of vital services includes health checks\, liver scans\, haircuts\, employment support\, bike repairs\, energy vouchers\, benefit support\, mental health support\, Simcards\, clothes\, toiletries\, as well as delicious soup and cake. \nSpectra is there to provide free HIV tests\, support with STI tests and to answer all your sexual health related questions.  \nOur outreach sessions are safe\, inclusive spaces where you can talk openly about your sexual health and wellbeing with our friendly team. \nAll events are risk assessed and may be subject to change. For updates\, follow us on Instagram: @spectra_london
URL:https://spectra-london.org.uk/event/sexual-health-information-hiv-stis-testing-and-free-condoms-at-queen-mary-hall-4/
LOCATION:Queen Mary Hall\, Cambridge Gardens\, London\, KT1 3NJ\, United Kingdom
CATEGORIES:Free condoms & Info,HIV testing
ORGANIZER;CN="Spectra":MAILTO:info@spectra-london.org.uk
END:VEVENT
END:VCALENDAR